BEGIN:VCALENDAR
VERSION:2.0
PRODID:-//Squarespace Inc/Squarespace 6//v6//EN
BEGIN:VEVENT
UID:5c1c2d1f0e2e72a5b8644aba@squarespace.com
DTSTAMP:20181221T000715Z
DTSTART:20190207T043000Z
DTEND:20190207T063000Z
SUMMARY:Get Social
GEO:-39.058068;174.073654
LOCATION:Manifold Coworking Space\, 21 Devon St W\, New Plymouth
END:VEVENT
END:VCALENDAR
