BEGIN:VCALENDAR
VERSION:2.0
PRODID:-//Squarespace Inc/Squarespace 6//v6//EN
BEGIN:VEVENT
UID:5c1c2fe170a6ad869e035a00@squarespace.com
DTSTAMP:20181221T001229Z
DTSTART:20190606T053000Z
DTEND:20190606T073000Z
SUMMARY:Get Social
GEO:-39.058068;174.073654
LOCATION:Manifold Coworking Space\, 21 Devon St W\, New Plymouth
END:VEVENT
END:VCALENDAR
