BEGIN:VCALENDAR
VERSION:2.0
PRODID:-//Squarespace Inc/Squarespace 6//v6//EN
BEGIN:VEVENT
UID:5c1c2e23032be4521b219f54@squarespace.com
DTSTAMP:20181221T000528Z
DTSTART:20190307T043000Z
DTEND:20190307T063000Z
SUMMARY:Get Social
END:VEVENT
END:VCALENDAR
