BEGIN:VCALENDAR
VERSION:2.0
PRODID:-//Squarespace Inc/Squarespace 6//v6//EN
BEGIN:VEVENT
UID:5c1c2f4921c67c301dc8a292@squarespace.com
DTSTAMP:20181221T000959Z
DTSTART:20190404T043000Z
DTEND:20190404T063000Z
SUMMARY:Get Social
END:VEVENT
END:VCALENDAR
