BEGIN:VCALENDAR
VERSION:2.0
PRODID:-//Squarespace Inc/Squarespace 6//v6//EN
BEGIN:VEVENT
UID:5c1c332a2b6a284e8308c4ed@squarespace.com
DTSTAMP:20181221T003304Z
DTSTART:20190227T043000Z
DTEND:20190227T063000Z
SUMMARY:Startup Taranaki Meetup
GEO:-39.058068;174.073654
LOCATION:Manifold Coworking Space\, 21 Devon St W\, New Plymouth
END:VEVENT
END:VCALENDAR
