BEGIN:VCALENDAR
VERSION:2.0
PRODID:-//Squarespace Inc/Squarespace 6//v6//EN
BEGIN:VEVENT
UID:5c1c346521c67c301dc8de7d@squarespace.com
DTSTAMP:20181221T003319Z
DTSTART:20190327T043000Z
DTEND:20190327T063000Z
SUMMARY:Startup Taranaki Meetup
GEO:-39.058068;174.073654
LOCATION:Manifold Coworking Space\, 21 Devon St W\, New Plymouth
END:VEVENT
END:VCALENDAR
