BEGIN:VCALENDAR
VERSION:2.0
PRODID:-//Squarespace Inc/Squarespace 6//v6//EN
BEGIN:VEVENT
UID:5c1c347b758d4640475788ae@squarespace.com
DTSTAMP:20181221T003338Z
DTSTART:20190424T053000Z
DTEND:20190424T073000Z
SUMMARY:Startup Taranaki Meetup
GEO:-39.058068;174.073654
LOCATION:Manifold Coworking Space\, 21 Devon St W\, New Plymouth
END:VEVENT
END:VCALENDAR
