BEGIN:VCALENDAR
VERSION:2.0
PRODID:-//Squarespace Inc/Squarespace 6//v6//EN
BEGIN:VEVENT
UID:5c1c34eb352f530db35334a9@squarespace.com
DTSTAMP:20181221T003425Z
DTSTART:20190626T053000Z
DTEND:20190626T073000Z
SUMMARY:Startup Taranaki Meetup
GEO:-39.058068;174.073654
LOCATION:Manifold Coworking Space\, 21 Devon St W\, New Plymouth
END:VEVENT
END:VCALENDAR
