BEGIN:VCALENDAR
VERSION:2.0
PRODID:-//Squarespace Inc/Squarespace 6//v6//EN
BEGIN:VEVENT
UID:5c1c303d8a922db13964e045@squarespace.com
DTSTAMP:20181221T002243Z
DTSTART:20190221T043000Z
DTEND:20190221T063000Z
SUMMARY:Taranaki Software Developers
GEO:-39.058068;174.073654
LOCATION:Manifold Coworking Space\, 21 Devon St W\, New Plymouth
END:VEVENT
END:VCALENDAR
