BEGIN:VCALENDAR
VERSION:2.0
PRODID:-//Squarespace Inc/Squarespace 6//v6//EN
BEGIN:VEVENT
UID:5c1c32730ebbe8580a86dc9c@squarespace.com
DTSTAMP:20181221T002332Z
DTSTART:20190418T053000Z
DTEND:20190418T073000Z
SUMMARY:Taranaki Software Developers
GEO:-39.058068;174.073654
LOCATION:Manifold Coworking Space\, 21 Devon St W\, New Plymouth
END:VEVENT
END:VCALENDAR
