BEGIN:VCALENDAR
VERSION:2.0
PRODID:-//Squarespace Inc/Squarespace 6//v6//EN
BEGIN:VEVENT
UID:5c1c32bc352f530db3531efc@squarespace.com
DTSTAMP:20181221T002443Z
DTSTART:20190620T053000Z
DTEND:20190620T073000Z
SUMMARY:Taranaki Software Developers
GEO:-39.058068;174.073654
LOCATION:Manifold Coworking Space\, 21 Devon St W\, New Plymouth
END:VEVENT
END:VCALENDAR
