BEGIN:VCALENDAR
VERSION:2.0
PRODID:-//Squarespace Inc/Squarespace 6//v6//EN
BEGIN:VEVENT
UID:5c1c3643aa4a99e6be4ca2ab@squarespace.com
DTSTAMP:20181221T003945Z
DTSTART:20190314T193000Z
DTEND:20190314T210000Z
SUMMARY:Bounce
GEO:-39.058068;174.073654
LOCATION:Manifold Coworking Space\, 21 Devon St W\, New Plymouth
END:VEVENT
END:VCALENDAR
