BEGIN:VCALENDAR
VERSION:2.0
PRODID:-//Squarespace Inc/Squarespace 6//v6//EN
BEGIN:VEVENT
UID:5c1c365c0e2e72a5b864b0ff@squarespace.com
DTSTAMP:20181221T004008Z
DTSTART:20190418T203000Z
DTEND:20190418T220000Z
SUMMARY:Bounce
GEO:-39.058068;174.073654
LOCATION:Manifold Coworking Space\, 21 Devon St W\, New Plymouth
END:VEVENT
END:VCALENDAR
