BEGIN:VCALENDAR
VERSION:2.0
PRODID:-//Squarespace Inc/Squarespace 6//v6//EN
BEGIN:VEVENT
UID:5c1c376d032be4521b220a21@squarespace.com
DTSTAMP:20181221T004440Z
DTSTART:20190314T060000Z
DTEND:20190314T073000Z
SUMMARY:Not Nice Artist Meetup
GEO:-39.058068;174.073654
LOCATION:Manifold Coworking Space\, 21 Devon St W\, New Plymouth
END:VEVENT
END:VCALENDAR
