BEGIN:VCALENDAR
VERSION:2.0
PRODID:-//Squarespace Inc/Squarespace 6//v6//EN
BEGIN:VEVENT
UID:5c1c37ca89858360b39807f7@squarespace.com
DTSTAMP:20181221T004614Z
DTSTART:20190509T070000Z
DTEND:20190509T083000Z
SUMMARY:Not Nice Artist Meetup
GEO:-39.058068;174.073654
LOCATION:Manifold Coworking Space\, 21 Devon St W\, New Plymouth
END:VEVENT
END:VCALENDAR
