BEGIN:VCALENDAR
VERSION:2.0
PRODID:-//Squarespace Inc/Squarespace 6//v6//EN
BEGIN:VEVENT
UID:5c1c37f7aa4a99e6be4cb352@squarespace.com
DTSTAMP:20181221T004701Z
DTSTART:20190613T070000Z
DTEND:20190613T083000Z
SUMMARY:Not Nice Artist Meetup
GEO:-39.058068;174.073654
LOCATION:Manifold Coworking Space\, 21 Devon St W\, New Plymouth
END:VEVENT
END:VCALENDAR
