BEGIN:VCALENDAR
VERSION:2.0
PRODID:-//Squarespace Inc/Squarespace 6//v6//EN
BEGIN:VEVENT
UID:59b216118dd04187fcd105e3@squarespace.com
DTSTAMP:20170908T042549Z
DTSTART:20170927T043000Z
DTEND:20170927T063000Z
SUMMARY:Startup Meetup
GEO:-39.058068;174.073654
LOCATION:Manifold Coworking\, 21 Devon Street West\, New Plymouth\, Taranak
 i\, 4310\, New Zealand
END:VEVENT
END:VCALENDAR
