BEGIN:VCALENDAR
VERSION:2.0
PRODID:-//Squarespace Inc/Squarespace 6//v6//EN
BEGIN:VEVENT
UID:59b216e5a8b2b050d1c53d0a@squarespace.com
DTSTAMP:20170908T040510Z
DTSTART:20170919T043000Z
DTEND:20170919T053000Z
SUMMARY:.Net User Group
END:VEVENT
END:VCALENDAR
