BEGIN:VCALENDAR
VERSION:2.0
PRODID:-//Squarespace Inc/Squarespace 6//v6//EN
BEGIN:VEVENT
UID:59b2166703596ecddfd8ff0a@squarespace.com
DTSTAMP:20170908T040316Z
DTSTART:20170914T073000Z
DTEND:20170914T083000Z
SUMMARY:Not Nice Artist Meetup
END:VEVENT
END:VCALENDAR
